BEGIN:VCALENDAR
VERSION:2.0
PRODID:-//Library Market//iCal Export//EN
BEGIN:VEVENT
SUMMARY:Open Play
UID:17507
DTSTAMP:20260425T214900Z
DTSTART:20260708T153000Z
DTEND:20260708T163000Z
LOCATION:Oregon Public Library, 200 N Alpine Pkwy, Oregon, WI 53575, Unite
 d States
ROOM: Children&#039;s Program Room 135
DESCRIPTION:No registration. For ages 0-5.After Everybody Storytime, we br
 ing out more toys and expand the Play Area to get the wiggles out! 
URL:https://oregonpl.librarycalendar.com/event/open-play-17507
END:VEVENT
END:VCALENDAR
