BEGIN:VCALENDAR
VERSION:2.0
PRODID:-//Library Market//iCal Export//EN
BEGIN:VEVENT
SUMMARY:Everybody Storytime
UID:17497
DTSTAMP:20260424T223400Z
DTSTART:20260710T150000Z
DTEND:20260710T153000Z
LOCATION:Oregon Public Library, 200 N Alpine Pkwy, Oregon, WI 53575, Unite
 d States
ROOM: Children&#039;s Program Room 135
DESCRIPTION:No registration. For ages 0-5.A story or two with puppets, son
 gs, and lots of wiggles! Storytime lasts 20-25 minutes and is followed by 
 Open Play.  We’ll bring out more toys, tunnels, and crafts! 
URL:https://oregonpl.librarycalendar.com/event/everybody-storytime-17497
END:VEVENT
END:VCALENDAR
